BEGIN:VCALENDAR
VERSION:2.0
PRODID:-//Roofrox - ECPv4.6.8//NONSGML v1.0//EN
CALSCALE:GREGORIAN
METHOD:PUBLISH
X-WR-CALNAME:Roofrox
X-ORIGINAL-URL:https://www.roofrox.com
X-WR-CALDESC:Events for Roofrox
BEGIN:VEVENT
DTSTART;TZID=UTC+2:20240508T083000
DTEND;TZID=UTC+2:20240508T163000
DTSTAMP:20260423T141403
CREATED:20240418T093424Z
LAST-MODIFIED:20240517T064557Z
UID:37698-1715157000-1715185800@www.roofrox.com
SUMMARY:Arca in Tour – Ancona
DESCRIPTION:[vc_row][vc_column][vc_column_text]Data: 08.05.2024\nOrario: 08:30 – 16:30\nLuogo: Fortino Napoleonico\, Via Poggio\, 166 – Portonovo (AN) \n Iscriviti\n Scarica il programma[/vc_column_text][/vc_column][/vc_row] \n
URL:https://www.roofrox.com/evento/arca-in-tour-ancona/
LOCATION:Via Poggio\, 166\, Portonovo\, Ancona\, Italia
CATEGORIES:Fiere concluse
ATTACH;FMTTYPE=image/jpeg:https://www.roofrox.com/wp-content/uploads/2024/04/ARCAinTour2024-07_05-RoofRox-1.jpg
END:VEVENT
END:VCALENDAR