BEGIN:VCALENDAR
VERSION:2.0
PRODID:-//Roofrox - ECPv4.6.8//NONSGML v1.0//EN
CALSCALE:GREGORIAN
METHOD:PUBLISH
X-WR-CALNAME:Roofrox
X-ORIGINAL-URL:https://www.roofrox.com
X-WR-CALDESC:Events for Roofrox
BEGIN:VEVENT
DTSTART;TZID=UTC+2:20240409T083000
DTEND;TZID=UTC+2:20240409T160000
DTSTAMP:20260423T224749
CREATED:20240325T100937Z
LAST-MODIFIED:20240415T062721Z
UID:37659-1712651400-1712678400@www.roofrox.com
SUMMARY:Arca in Tour – Torino
DESCRIPTION:[vc_row][vc_column][vc_column_text]Data: 09.04.2024\nOrario: 08:30 – 16:00\nLuogo: Cantine Balbiano – C.so Vittorio Emanuele II\, 1\, Andezeno TORINO \n Iscriviti \n Scarica il programma[/vc_column_text][/vc_column][/vc_row] \n
URL:https://www.roofrox.com/evento/arca-in-tour-torino/
LOCATION:C.so Vittorio Emanuele II\, 1\,\, Andezeno\, Torino\, Italia
CATEGORIES:Fiere concluse
ATTACH;FMTTYPE=image/jpeg:https://www.roofrox.com/wp-content/uploads/2024/03/ARCAinTour2024-09_04-RoofRox.jpg
END:VEVENT
END:VCALENDAR