BEGIN:VCALENDAR
VERSION:2.0
PRODID:-//Roofrox - ECPv4.6.8//NONSGML v1.0//EN
CALSCALE:GREGORIAN
METHOD:PUBLISH
X-WR-CALNAME:Roofrox
X-ORIGINAL-URL:https://www.roofrox.com
X-WR-CALDESC:Events for Roofrox
BEGIN:VEVENT
DTSTART;TZID=UTC+2:20240607T100000
DTEND;TZID=UTC+2:20240607T153000
DTSTAMP:20260423T090419
CREATED:20240517T082754Z
LAST-MODIFIED:20240819T091051Z
UID:37778-1717754400-1717774200@www.roofrox.com
SUMMARY:Convegno Deus 2024 – Verona
DESCRIPTION:[vc_row][vc_column][vc_column_text]Data: 07.06.2024\nOrario: 10:00 – 15:30\nLuogo: Hotel Veronesi la Torre (VR) \n Iscriviti\n Scarica il programma[/vc_column_text][/vc_column][/vc_row] \n
URL:https://www.roofrox.com/evento/convegno-deus-2024-verona/
LOCATION:Verona\, Italia
CATEGORIES:Fiere concluse
ATTACH;FMTTYPE=image/jpeg:https://www.roofrox.com/wp-content/uploads/2024/05/Evento-DEUS-RoofRox.jpg
END:VEVENT
END:VCALENDAR