BEGIN:VCALENDAR
VERSION:2.0
PRODID:-//Roofrox - ECPv4.6.8//NONSGML v1.0//EN
CALSCALE:GREGORIAN
METHOD:PUBLISH
X-WR-CALNAME:Roofrox
X-ORIGINAL-URL:https://www.roofrox.com
X-WR-CALDESC:Events for Roofrox
BEGIN:VEVENT
DTSTART;TZID=UTC+2:20231020T090000
DTEND;TZID=UTC+2:20231020T170000
DTSTAMP:20260424T193823
CREATED:20230821T123318Z
LAST-MODIFIED:20231023T070202Z
UID:37412-1697792400-1697821200@www.roofrox.com
SUMMARY:CORSO TECNICO - Edificio in legno certificato: caratteristiche e prestazioni
DESCRIPTION:[vc_row][vc_column][vc_column_text]Data: 20.10.2023\nOrario: 09:00 – 17:00\nLuogo: Presso sede RoofRox – Via Lazio 14\, Lentate sul Seveso (MB) \n Iscriviti al corso \n Scarica il programma[/vc_column_text][/vc_column][/vc_row] \n
URL:https://www.roofrox.com/evento/corso-tecnico-edificio-in-legno-certificato-caratteristiche-e-prestazioni/
LOCATION:Via Lazio 14\, Lentate sul Seveso\, MB\, 20823\, Italia
CATEGORIES:Fiere concluse
ATTACH;FMTTYPE=image/jpeg:https://www.roofrox.com/wp-content/uploads/2023/08/Corso-RoofRox-20_10_23-RoofRox.jpg
ORGANIZER;CN="RoofRox":MAILTO:info@roofrox.com
END:VEVENT
END:VCALENDAR