BEGIN:VCALENDAR
VERSION:2.0
PRODID:-//Roofrox - ECPv4.6.8//NONSGML v1.0//EN
CALSCALE:GREGORIAN
METHOD:PUBLISH
X-WR-CALNAME:Roofrox
X-ORIGINAL-URL:https://www.roofrox.com
X-WR-CALDESC:Events for Roofrox
BEGIN:VEVENT
DTSTART;TZID=UTC+2:20230915T090000
DTEND;TZID=UTC+2:20230915T170000
DTSTAMP:20260425T021722
CREATED:20230810T130357Z
LAST-MODIFIED:20230918T093023Z
UID:37393-1694768400-1694797200@www.roofrox.com
SUMMARY:CORSO TECNICO - La casa in legno Ergepearl: dall’attacco a terra all’involucro ventilato
DESCRIPTION:[vc_row][vc_column][vc_column_text]Data: 15.09.2023\nOrario: 09:00 – 17:00\nLuogo: Presso sede RoofRox – Via Lazio 14\, Lentate sul Seveso (MB) \n Iscriviti al corso \n Scarica il programma[/vc_column_text][/vc_column][/vc_row] \n
URL:https://www.roofrox.com/evento/corso-tecnico-la-casa-in-legno-ergepearl-dallattacco-a-terra-allinvolucro-ventilato/
LOCATION:Via Lazio 14\, Lentate sul Seveso\, MB\, 20823\, Italia
CATEGORIES:Fiere concluse
ATTACH;FMTTYPE=image/jpeg:https://www.roofrox.com/wp-content/uploads/2023/08/Corso-RoofRox-15_09_23-RoofRox.jpg
ORGANIZER;CN="RoofRox":MAILTO:info@roofrox.com
END:VEVENT
END:VCALENDAR