BEGIN:VCALENDAR
VERSION:2.0
PRODID:-//Roofrox - ECPv4.6.8//NONSGML v1.0//EN
CALSCALE:GREGORIAN
METHOD:PUBLISH
X-WR-CALNAME:Roofrox
X-ORIGINAL-URL:https://www.roofrox.com
X-WR-CALDESC:Events for Roofrox
BEGIN:VEVENT
DTSTART;TZID=UTC+2:20231109T090000
DTEND;TZID=UTC+2:20231109T170000
DTSTAMP:20260424T161933
CREATED:20230918T093718Z
LAST-MODIFIED:20231121T144939Z
UID:37431-1699520400-1699549200@www.roofrox.com
SUMMARY:CORSO TECNICO/PRATICO - L’involucro edilizio coibentato e ventilato
DESCRIPTION:[vc_row][vc_column][vc_column_text]Data: 09.11.2023\nOrario: 09:00 – 17:00\nLuogo: Presso sede RoofRox – Via Lazio 14\, Lentate sul Seveso (MB) \n Iscriviti al corso \n Scarica il programma[/vc_column_text][/vc_column][/vc_row] \n
URL:https://www.roofrox.com/evento/corso-tecnico-pratico-linvolucro-edilizio-coibentato-e-ventilato/
LOCATION:Via Lazio 14\, Lentate sul Seveso\, MB\, 20823\, Italia
CATEGORIES:Fiere concluse
ATTACH;FMTTYPE=image/jpeg:https://www.roofrox.com/wp-content/uploads/2023/09/Corso-RoofRox-09_11_23-RoofRox.jpg
ORGANIZER;CN="RoofRox":MAILTO:info@roofrox.com
END:VEVENT
END:VCALENDAR