BEGIN:VCALENDAR
VERSION:2.0
PRODID:-//Roofrox - ECPv4.6.8//NONSGML v1.0//EN
CALSCALE:GREGORIAN
METHOD:PUBLISH
X-WR-CALNAME:Roofrox
X-ORIGINAL-URL:https://www.roofrox.com
X-WR-CALDESC:Events for Roofrox
BEGIN:VEVENT
DTSTART;TZID=UTC+2:20230907T090000
DTEND;TZID=UTC+2:20230907T170000
DTSTAMP:20260425T040618
CREATED:20230810T122441Z
LAST-MODIFIED:20230908T110149Z
UID:37383-1694077200-1694106000@www.roofrox.com
SUMMARY:CORSO TECNICO/PRATICO - Tecnologie all’avanguardia: la facciata ventilata firmata Ergepearl
DESCRIPTION:[vc_row][vc_column][vc_column_text]Data: 07.09.2023\nOrario: 09:00 – 17:00\nLuogo: Presso sede RoofRox – Via Lazio 14\, Lentate sul Seveso (MB) \n Iscriviti al corso \n Scarica il programma[/vc_column_text][/vc_column][/vc_row] \n
URL:https://www.roofrox.com/evento/corso-tecnico-pratico-tecnologie-allavanguardia-la-facciata-ventilata-firmata-ergepearl/
LOCATION:Via Lazio 14\, Lentate sul Seveso\, MB\, 20823\, Italia
CATEGORIES:Fiere concluse
ATTACH;FMTTYPE=image/jpeg:https://www.roofrox.com/wp-content/uploads/2023/08/Corso-RoofRox-07_09_23-RoofRox.jpg
ORGANIZER;CN="RoofRox":MAILTO:info@roofrox.com
END:VEVENT
END:VCALENDAR