BEGIN:VCALENDAR
VERSION:2.0
PRODID:-//Roofrox - ECPv4.6.8//NONSGML v1.0//EN
CALSCALE:GREGORIAN
METHOD:PUBLISH
X-WR-CALNAME:Roofrox
X-ORIGINAL-URL:https://www.roofrox.com
X-WR-CALDESC:Events for Roofrox
BEGIN:VEVENT
DTSTART;VALUE=DATE:20231123
DTEND;VALUE=DATE:20231126
DTSTAMP:20260424T110452
CREATED:20230802T122717Z
LAST-MODIFIED:20231128T115230Z
UID:37371-1700697600-1700956799@www.roofrox.com
SUMMARY:Restructura
DESCRIPTION:[vc_row][vc_column] \nRestructura\n[vc_column_text] \nLa salubrità dell’abitare: costruire consapevole\nRestructura è il punto di riferimento annuale che si rivolge e coinvolge l’intero comparto dell’edilizia.\nIl tema della 35° edizione sarà l’attenzione ad una buona progettazione\, consapevole del suo impatto\, in ogni sua fase\, che abbia sempre l’obiettivo di migliorare la qualità dell’abitare per l’utente\, nel rispetto dei più contemporanei criteri di sostenibilità ambientale e sociale.\nRiwega\, 3therm e RoofRox ti aspettano all’interno del CasaClima Village!\n[/vc_column_text][/vc_column][/vc_row] \n
URL:https://www.roofrox.com/evento/restructura/
LOCATION:Lingotto Fiere\, Torino\, Italia
CATEGORIES:Fiere concluse
ATTACH;FMTTYPE=image/jpeg:https://www.roofrox.com/wp-content/uploads/2023/08/Logo-Restructura.jpg
END:VEVENT
END:VCALENDAR