BEGIN:VCALENDAR
VERSION:2.0
PRODID:-//Roofrox - ECPv4.6.8//NONSGML v1.0//EN
CALSCALE:GREGORIAN
METHOD:PUBLISH
X-WR-CALNAME:Roofrox
X-ORIGINAL-URL:https://www.roofrox.com
X-WR-CALDESC:Events for Roofrox
BEGIN:VEVENT
DTSTART;VALUE=DATE:20240411
DTEND;VALUE=DATE:20240414
DTSTAMP:20260423T190759
CREATED:20240208T140153Z
LAST-MODIFIED:20240415T062658Z
UID:37594-1712793600-1713052799@www.roofrox.com
SUMMARY:YED Yellow Expo Days
DESCRIPTION:[vc_row][vc_column][vc_column_text]L’unica fiera in Italia che riunisce i professionisti del serramento in legno\, alluminio\, ferro e PVC in un momento di conoscenza\, incontro e condivisione.\nRiwega\, 3therm e RoofRox ti aspettano allo stand H1![/vc_column_text][/vc_column][/vc_row] \n
URL:https://www.roofrox.com/evento/yed-yellow-expo-days/
CATEGORIES:Fiere concluse
ATTACH;FMTTYPE=image/jpeg:https://www.roofrox.com/wp-content/uploads/2024/02/Logo-YED.jpg
END:VEVENT
END:VCALENDAR